BEGIN:VCALENDAR
VERSION:2.0
PRODID:-//ZContent.net//ZapCalLib 1.0//EN
CALSCALE:GREGORIAN
METHOD:PUBLISH
BEGIN:VEVENT
SUMMARY:Online-Seminar: Populismus am Mittagstisch (ausgebucht) | 
DTSTART:20200425T100000
DTEND:20200425T150000
UID:2021-12-02-04-30-37-0-@calendar.boell.de
DTSTAMP:20211202T033037
DESCRIPTION:▶ Siehe Veranstaltungsbeschreibung – Landesstiftung Sachsen
 -Anhalt
END:VEVENT
END:VCALENDAR
