BEGIN:VCALENDAR
VERSION:2.0
PRODID:-//ZContent.net//ZapCalLib 1.0//EN
CALSCALE:GREGORIAN
METHOD:PUBLISH
BEGIN:VEVENT
SUMMARY:Hatespeech im Netz – Gegenrede online | virtuelles Seminar
DTSTART:20200406T160000
DTEND:20200406T180000
UID:2026-04-21-12-02-20-0-@calendar.boell.de
DTSTAMP:20260421T100220
DESCRIPTION:▶ Siehe Veranstaltungsbeschreibung – Landesstiftung Hamburg
END:VEVENT
END:VCALENDAR
