BEGIN:VCALENDAR
VERSION:2.0
PRODID:-//ZContent.net//ZapCalLib 1.0//EN
CALSCALE:GREGORIAN
METHOD:PUBLISH
BEGIN:VEVENT
SUMMARY:Online-Seminar: Demokratie braucht Feminismus! – Antifeminismus o
 nline entgegentreten (Warteliste) | 
DTSTART:20200504T180000
DTEND:20200504T200000
UID:2021-12-02-04-30-45-0-@calendar.boell.de
DTSTAMP:20211202T033045
DESCRIPTION:▶ Siehe Veranstaltungsbeschreibung – GreenCampus
END:VEVENT
END:VCALENDAR
