BEGIN:VCALENDAR
VERSION:2.0
PRODID:-//ZContent.net//ZapCalLib 1.0//EN
CALSCALE:GREGORIAN
METHOD:PUBLISH
BEGIN:VEVENT
SUMMARY:Online-Seminar: Virtuelle Meetings moderieren (Warteliste) | 
DTSTART:20200409T100000
DTEND:20200409T113000
UID:2021-12-02-04-33-59-0-@calendar.boell.de
DTSTAMP:20211202T033359
DESCRIPTION:▶ Siehe Veranstaltungsbeschreibung – GreenCampus
END:VEVENT
END:VCALENDAR
