BEGIN:VCALENDAR
VERSION:2.0
PRODID:-//ZContent.net//ZapCalLib 1.0//EN
CALSCALE:GREGORIAN
METHOD:PUBLISH
BEGIN:VEVENT
SUMMARY:Adam Tooze: On the unfolding financial and economic crisis | Online
 -Vortrag und Online-Debatte in englischer Sprache
DTSTART:20200331T190000
DTEND:20200331T200000
UID:2021-12-02-04-28-07-0-@calendar.boell.de
DTSTAMP:20211202T032807
DESCRIPTION:▶ Siehe Veranstaltungsbeschreibung – Externe Veranstaltung
END:VEVENT
END:VCALENDAR
