BEGIN:VCALENDAR
VERSION:2.0
PRODID:-//ZContent.net//ZapCalLib 1.0//EN
CALSCALE:GREGORIAN
METHOD:PUBLISH
BEGIN:VEVENT
SUMMARY:Livestream: Demokratien als riskante Ordnungen | Was heißt "zivile
 r Ungehorsam" im autoritären Sog?
DTSTART:20200320T100000
DTEND:20200320T113000
UID:2021-12-02-04-32-22-0-@calendar.boell.de
DTSTAMP:20211202T033222
DESCRIPTION:▶ Siehe Veranstaltungsbeschreibung – Landesstiftung Sachsen
  (Weiterdenken)
END:VEVENT
END:VCALENDAR
