BEGIN:VCALENDAR
VERSION:2.0
PRODID:-//ZContent.net//ZapCalLib 1.0//EN
CALSCALE:GREGORIAN
METHOD:PUBLISH
BEGIN:VEVENT
SUMMARY:ABSAGE: Miteinander Brandenburg – Erzählcafé  Ankommen und Blei
 ben | Unser Gast: Shabnam Abai
DTSTART:20200323T183000
DTEND:20200323T203000
UID:2021-12-02-04-30-36-0-@calendar.boell.de
DTSTAMP:20211202T033036
DESCRIPTION:▶ Siehe Veranstaltungsbeschreibung – Cottbus – Landesstif
 tung Brandenburg
END:VEVENT
END:VCALENDAR
