BEGIN:VCALENDAR
VERSION:2.0
PRODID:-//ZContent.net//ZapCalLib 1.0//EN
CALSCALE:GREGORIAN
METHOD:PUBLISH
BEGIN:VEVENT
SUMMARY:Atemlos in der Stadt  | Wege in eine lebenswerte Stadt
DTSTART:20200314T163000
DTEND:20200314T183000
UID:2026-04-21-10-39-50-0-@calendar.boell.de
DTSTAMP:20260421T083950
DESCRIPTION:▶ Siehe Veranstaltungsbeschreibung – Fürth – Petra-Kelly
 -Stiftung
END:VEVENT
END:VCALENDAR
