BEGIN:VCALENDAR
VERSION:2.0
PRODID:-//ZContent.net//ZapCalLib 1.0//EN
CALSCALE:GREGORIAN
METHOD:PUBLISH
BEGIN:VEVENT
SUMMARY:ABSAGE: Vom Sitzen auf gepackten Koffern zu neuer jüdischer Vielfa
 lt | Vortrag und Diskussion mit Dr. Olaf Glöckner (Moses Medelssohn Zentr
 um Potsdam)
DTSTART:20200317T180000
DTEND:20200317T203000
UID:2021-12-02-04-30-24-0-@calendar.boell.de
DTSTAMP:20211202T033024
DESCRIPTION:▶ Siehe Veranstaltungsbeschreibung – Angermünde – Landes
 stiftung Brandenburg
END:VEVENT
END:VCALENDAR
