BEGIN:VCALENDAR
VERSION:2.0
PRODID:-//ZContent.net//ZapCalLib 1.0//EN
CALSCALE:GREGORIAN
METHOD:PUBLISH
BEGIN:VEVENT
SUMMARY:ABGESAGT - „Uferfrauen. Lesbisches L(i)eben in der DDR" | 
DTSTART:20200430T193000
DTEND:20200430T220000
UID:2021-12-02-04-36-00-0-@calendar.boell.de
DTSTAMP:20211202T033600
DESCRIPTION:▶ Siehe Veranstaltungsbeschreibung – Greifswald – Landess
 tiftung Mecklenburg-Vorpommern
END:VEVENT
END:VCALENDAR
