BEGIN:VCALENDAR
VERSION:2.0
PRODID:-//ZContent.net//ZapCalLib 1.0//EN
CALSCALE:GREGORIAN
METHOD:PUBLISH
BEGIN:VEVENT
SUMMARY:ABGESAGT - Böll-Montagskino „Uferfrauen. Lesbisches L(i)eben in 
 der DDR"
DTSTART:20200427T190000
DTEND:20200427T210000
UID:2026-04-21-04-05-38-0-@calendar.boell.de
DTSTAMP:20260421T020538
DESCRIPTION:Heinrich-Böll-Stiftung Mecklenburg-Vorpommern – Rostock – 
 Landesstiftung Mecklenburg-Vorpommern
END:VEVENT
END:VCALENDAR
