BEGIN:VCALENDAR
VERSION:2.0
PRODID:-//ZContent.net//ZapCalLib 1.0//EN
CALSCALE:GREGORIAN
METHOD:PUBLISH
BEGIN:VEVENT
SUMMARY:Queens Of Eastern Europe Vol.1 - Behind The Curtain  | Ausstellung 
 und Vortrag
DTSTART:20200515T150000
DTEND:20200624T210000
UID:2026-04-21-11-36-00-0-@calendar.boell.de
DTSTAMP:20260421T093600
DESCRIPTION:▶ Siehe Veranstaltungsbeschreibung – Weimar – Landesstift
 ung Thüringen
END:VEVENT
BEGIN:VEVENT
SUMMARY:Queens Of Eastern Europe Vol.1 - Behind The Curtain  | Ausstellung 
 und Vortrag
DTSTART:20200610T160000
DTEND:20200610T200000
UID:2026-04-21-09-36-00-1-@calendar.boell.de
DTSTAMP:20260421T093600
DESCRIPTION:▶ Siehe Veranstaltungsbeschreibung – Weimar – Landesstift
 ung Thüringen
END:VEVENT
END:VCALENDAR
