BEGIN:VCALENDAR
VERSION:2.0
PRODID:-//ZContent.net//ZapCalLib 1.0//EN
CALSCALE:GREGORIAN
METHOD:PUBLISH
BEGIN:VEVENT
SUMMARY:Hedwig Dohm Trio - Mehr Stolz, Ihr Frauen! | Eine Femmage an Hedwig
  Dohm
DTSTART:20200310T200000
DTEND:20200310T220000
UID:2026-04-20-11-41-54-0-@calendar.boell.de
DTSTAMP:20260420T094154
DESCRIPTION:▶ Siehe Veranstaltungsbeschreibung – 
END:VEVENT
END:VCALENDAR
