BEGIN:VCALENDAR
VERSION:2.0
PRODID:-//ZContent.net//ZapCalLib 1.0//EN
CALSCALE:GREGORIAN
METHOD:PUBLISH
BEGIN:VEVENT
SUMMARY:Eine Fremde unter uns | Ein Film zum Thema Zwangsheirat
DTSTART:20200309T180000
DTEND:20200309T210000
UID:2026-04-20-18-06-49-0-@calendar.boell.de
DTSTAMP:20260420T160649
DESCRIPTION:▶ Siehe Veranstaltungsbeschreibung – 
END:VEVENT
END:VCALENDAR
