BEGIN:VCALENDAR
VERSION:2.0
PRODID:-//ZContent.net//ZapCalLib 1.0//EN
CALSCALE:GREGORIAN
METHOD:PUBLISH
BEGIN:VEVENT
SUMMARY:Internationales Frauenfest
DTSTART:20200308T153000
DTEND:20200308T220000
UID:2026-04-20-11-42-04-0-@calendar.boell.de
DTSTAMP:20260420T094204
DESCRIPTION:▶ Siehe Veranstaltungsbeschreibung – Hannover – 
END:VEVENT
END:VCALENDAR
