BEGIN:VCALENDAR
VERSION:2.0
PRODID:-//ZContent.net//ZapCalLib 1.0//EN
CALSCALE:GREGORIAN
METHOD:PUBLISH
BEGIN:VEVENT
SUMMARY:abgesagt: #Female Pleasure - Barbara Miller | Filmvorführung und P
 odiumsdiskussion
DTSTART:20200317T170000
DTEND:20200317T200000
UID:2026-04-22-22-59-55-0-@calendar.boell.de
DTSTAMP:20260422T205955
DESCRIPTION:▶ Siehe Veranstaltungsbeschreibung – Hannover – Externe V
 eranstaltung
END:VEVENT
END:VCALENDAR
