BEGIN:VCALENDAR
VERSION:2.0
PRODID:-//ZContent.net//ZapCalLib 1.0//EN
CALSCALE:GREGORIAN
METHOD:PUBLISH
BEGIN:VEVENT
SUMMARY:Dahin, wo der Pfeffer wächst I - Deutsche Abschiebungspolitik im P
 raxistest | Online-Diskussion
DTSTART:20200506T110000
DTEND:20200506T130000
UID:2021-12-02-04-32-05-0-@calendar.boell.de
DTSTAMP:20211202T033205
DESCRIPTION:▶ Siehe Veranstaltungsbeschreibung – Hamburg – Landesstif
 tung Hamburg
END:VEVENT
END:VCALENDAR
