BEGIN:VCALENDAR
VERSION:2.0
PRODID:-//ZContent.net//ZapCalLib 1.0//EN
CALSCALE:GREGORIAN
METHOD:PUBLISH
BEGIN:VEVENT
SUMMARY:Absage: Framing in der politischen Kommunikation
DTSTART:20200429T100000
DTEND:20200429T173000
UID:2026-04-21-04-05-43-0-@calendar.boell.de
DTSTAMP:20260421T020543
DESCRIPTION:▶ Siehe Veranstaltungsbeschreibung – Potsdam – Landesstif
 tung Brandenburg
END:VEVENT
END:VCALENDAR
