BEGIN:VCALENDAR
VERSION:2.0
PRODID:-//ZContent.net//ZapCalLib 1.0//EN
CALSCALE:GREGORIAN
METHOD:PUBLISH
BEGIN:VEVENT
SUMMARY:Rhetorik- und Präsenztraining für Frauen | 
DTSTART:20191204T100000
DTEND:20191204T173000
UID:2021-12-02-03-34-14-0-@calendar.boell.de
DTSTAMP:20211202T023414
DESCRIPTION:▶ Siehe Veranstaltungsbeschreibung – Potsdam – Landesstif
 tung Brandenburg
END:VEVENT
END:VCALENDAR
