BEGIN:VCALENDAR
VERSION:2.0
PRODID:-//ZContent.net//ZapCalLib 1.0//EN
CALSCALE:GREGORIAN
METHOD:PUBLISH
BEGIN:VEVENT
SUMMARY:Argumentieren gegen Rechts - sich argumentativ gegen Rassismus und 
 Rechtsextremismus einsetzen (ausgebucht) | Fit for Politics
DTSTART:20201127T150000
DTEND:20201128T173000
UID:2021-12-02-03-49-50-0-@calendar.boell.de
DTSTAMP:20211202T024950
DESCRIPTION:▶ Siehe Veranstaltungsbeschreibung – Hannover – Landessti
 ftung Niedersachsen (Leben & Umwelt)
END:VEVENT
END:VCALENDAR
