BEGIN:VCALENDAR
VERSION:2.0
PRODID:-//ZContent.net//ZapCalLib 1.0//EN
CALSCALE:GREGORIAN
METHOD:PUBLISH
BEGIN:VEVENT
SUMMARY:Was tun wenn’s brennt? - Sicher und konstruktiv in Konflikten | F
 it for Politics
DTSTART:20201106T150000
DTEND:20201107T173000
UID:2021-12-02-03-50-15-0-@calendar.boell.de
DTSTAMP:20211202T025015
DESCRIPTION:Heinrich-Böll-Stiftung Niedersachsen - Stiftung Leben & Umwelt
  – Hannover – Landesstiftung Niedersachsen (Leben & Umwelt)
END:VEVENT
END:VCALENDAR
