BEGIN:VCALENDAR
VERSION:2.0
PRODID:-//ZContent.net//ZapCalLib 1.0//EN
CALSCALE:GREGORIAN
METHOD:PUBLISH
BEGIN:VEVENT
SUMMARY:Ob im Alltag oder in der (beruflichen) Praxis: rassismuskritische H
 altung entwickeln und ausüben! | Fit for Politics
DTSTART:20200918T150000
DTEND:20200919T170000
UID:2026-04-22-22-56-14-0-@calendar.boell.de
DTSTAMP:20260422T205614
DESCRIPTION:Stiftung Leben & Umwelt / Heinrich-Böll-Stiftung Niedersachsen
END:VEVENT
END:VCALENDAR
