BEGIN:VCALENDAR
VERSION:2.0
PRODID:-//ZContent.net//ZapCalLib 1.0//EN
CALSCALE:GREGORIAN
METHOD:PUBLISH
BEGIN:VEVENT
SUMMARY:Effektiv, geordnet und ergebnisorientiert! | Sitzungen/Diskussionen
  erfolgreich leiten - anlog und virtuell 
DTSTART:20200703T160000
DTEND:20200704T153000
UID:2021-12-02-03-50-00-0-@calendar.boell.de
DTSTAMP:20211202T025000
DESCRIPTION:▶ Online-Veranstaltung – Hannover – Landesstiftung Nieder
 sachsen (Leben & Umwelt)
END:VEVENT
END:VCALENDAR
