BEGIN:VCALENDAR
VERSION:2.0
PRODID:-//ZContent.net//ZapCalLib 1.0//EN
CALSCALE:GREGORIAN
METHOD:PUBLISH
BEGIN:VEVENT
SUMMARY:Social Media Arbeit mit wenig Ressourcen | Fit for Politics
DTSTART:20200612T100000
DTEND:20200612T160000
UID:2026-04-23-02-06-29-0-@calendar.boell.de
DTSTAMP:20260423T000629
DESCRIPTION:▶ Siehe Veranstaltungsbeschreibung – Hannover – Stiftung 
 Leben & Umwelt / Heinrich-Böll-Stiftung Niedersachsen
END:VEVENT
END:VCALENDAR
