BEGIN:VCALENDAR
VERSION:2.0
PRODID:-//ZContent.net//ZapCalLib 1.0//EN
CALSCALE:GREGORIAN
METHOD:PUBLISH
BEGIN:VEVENT
SUMMARY:ABGESAGT! Minol-Pirols | Musikalische Lesung und Gespräch mit Shan
 ghai Drenger
DTSTART:20200331T203000
DTEND:20200331T223000
UID:2026-04-20-18-06-43-0-@calendar.boell.de
DTSTAMP:20260420T160643
DESCRIPTION:▶ Siehe Veranstaltungsbeschreibung – Landesstiftung Thürin
 gen
END:VEVENT
END:VCALENDAR
