BEGIN:VCALENDAR
VERSION:2.0
PRODID:-//ZContent.net//ZapCalLib 1.0//EN
CALSCALE:GREGORIAN
METHOD:PUBLISH
BEGIN:VEVENT
SUMMARY:Wie hängen Klimawandel, Rassismus und Menschenrechte miteinander z
 usammen? | Workshop
DTSTART:20200311T170000
DTEND:20200311T203000
UID:2021-12-02-04-30-24-0-@calendar.boell.de
DTSTAMP:20211202T033024
DESCRIPTION:▶ Siehe Veranstaltungsbeschreibung – Falkensee – Landesst
 iftung Brandenburg
END:VEVENT
END:VCALENDAR
