BEGIN:VCALENDAR
VERSION:2.0
PRODID:-//ZContent.net//ZapCalLib 1.0//EN
CALSCALE:GREGORIAN
METHOD:PUBLISH
BEGIN:VEVENT
SUMMARY:ABGESAGT "Der Islam der Frauen" | Filmpreview mit anschließendem G
 espräch
DTSTART:20200318T193000
DTEND:20200318T213000
UID:2021-12-02-04-31-02-0-@calendar.boell.de
DTSTAMP:20211202T033102
DESCRIPTION:▶ Siehe Veranstaltungsbeschreibung – Hamburg – Landesstif
 tung Hamburg
END:VEVENT
END:VCALENDAR
