BEGIN:VCALENDAR
VERSION:2.0
PRODID:-//ZContent.net//ZapCalLib 1.0//EN
CALSCALE:GREGORIAN
METHOD:PUBLISH
BEGIN:VEVENT
SUMMARY:Online-Seminar: Konflikte erkennen und einordnen (Warteliste)
DTSTART:20201013T180000
DTEND:20201013T194500
UID:2026-04-23-17-56-40-0-@calendar.boell.de
DTSTAMP:20260423T155640
DESCRIPTION:▶ Siehe Veranstaltungsbeschreibung – GreenCampus
END:VEVENT
END:VCALENDAR
