BEGIN:VCALENDAR
VERSION:2.0
PRODID:-//ZContent.net//ZapCalLib 1.0//EN
CALSCALE:GREGORIAN
METHOD:PUBLISH
BEGIN:VEVENT
SUMMARY:Vulva Me!  | Eine interaktive Vulvaausstellung
DTSTART:20200311T170000
DTEND:20200318T220000
UID:2021-12-02-04-30-55-0-@calendar.boell.de
DTSTAMP:20211202T033055
DESCRIPTION:▶ Siehe Veranstaltungsbeschreibung – Chemnitz – Landessti
 ftung Sachsen (Weiterdenken)
END:VEVENT
END:VCALENDAR
