BEGIN:VCALENDAR
VERSION:2.0
PRODID:-//ZContent.net//ZapCalLib 1.0//EN
CALSCALE:GREGORIAN
METHOD:PUBLISH
BEGIN:VEVENT
SUMMARY:Klimaneutral Arbeiten und Wirtschaften in Stadt und Land | Perspekt
 iven und praktische Ansätze
DTSTART:20200221T180000
DTEND:20200223T163000
UID:2021-12-02-04-34-55-0-@calendar.boell.de
DTSTAMP:20211202T033455
DESCRIPTION:▶ Siehe Veranstaltungsbeschreibung – Berlin – Landesstift
 ung Berlin (Bildungswerk)
END:VEVENT
END:VCALENDAR
