BEGIN:VCALENDAR
VERSION:2.0
PRODID:-//ZContent.net//ZapCalLib 1.0//EN
CALSCALE:GREGORIAN
METHOD:PUBLISH
BEGIN:VEVENT
SUMMARY:abgesagt: Geschlechtervielfalt und queer_feministische Perspektiven
  | Verunsicherung als Potential
DTSTART:20200316T190000
DTEND:20200316T210000
UID:2021-12-02-04-33-23-0-@calendar.boell.de
DTSTAMP:20211202T033323
DESCRIPTION:▶ Siehe Veranstaltungsbeschreibung – Laatzen – Landesstif
 tung Niedersachsen (Leben & Umwelt)
END:VEVENT
END:VCALENDAR
