BEGIN:VCALENDAR
VERSION:2.0
PRODID:-//ZContent.net//ZapCalLib 1.0//EN
CALSCALE:GREGORIAN
METHOD:PUBLISH
BEGIN:VEVENT
SUMMARY:Abgesagt - Queerfeminismus | ...die Frauenpolitische Reihe in Braun
 schweig
DTSTART:20200312T180000
DTEND:20200312T210000
UID:2021-12-02-04-33-39-0-@calendar.boell.de
DTSTAMP:20211202T033339
DESCRIPTION:▶ Siehe Veranstaltungsbeschreibung – Braunschweig – Lande
 sstiftung Niedersachsen (Leben & Umwelt)
END:VEVENT
END:VCALENDAR
