BEGIN:VCALENDAR
VERSION:2.0
PRODID:-//ZContent.net//ZapCalLib 1.0//EN
CALSCALE:GREGORIAN
METHOD:PUBLISH
BEGIN:VEVENT
SUMMARY:Online-Seminar: Demokratie braucht Feminismus! – Antifeminismus o
 nline entgegentreten (Warteliste)
DTSTART:20201103T180000
DTEND:20201103T200000
UID:2026-04-23-04-36-38-0-@calendar.boell.de
DTSTAMP:20260423T023638
DESCRIPTION:▶ Siehe Veranstaltungsbeschreibung – GreenCampus
END:VEVENT
END:VCALENDAR
