BEGIN:VCALENDAR
VERSION:2.0
PRODID:-//ZContent.net//ZapCalLib 1.0//EN
CALSCALE:GREGORIAN
METHOD:PUBLISH
BEGIN:VEVENT
SUMMARY:Absage: Tierwohl - Label oder Fake? | Vortrag zum Fleischatlas
DTSTART:20200318T180000
DTEND:20200318T193000
UID:2026-04-21-00-13-55-0-@calendar.boell.de
DTSTAMP:20260420T221355
DESCRIPTION:▶ Siehe Veranstaltungsbeschreibung – Leipzig – Landesstif
 tung Sachsen (Weiterdenken)
END:VEVENT
END:VCALENDAR
