BEGIN:VCALENDAR
VERSION:2.0
PRODID:-//ZContent.net//ZapCalLib 1.0//EN
CALSCALE:GREGORIAN
METHOD:PUBLISH
BEGIN:VEVENT
SUMMARY:Chemnitz grünt | Vernetzungstreffen
DTSTART:20200213T190001
DTEND:20200213T210000
UID:2026-04-21-15-23-30-0-@calendar.boell.de
DTSTAMP:20260421T132330
DESCRIPTION:▶ Siehe Veranstaltungsbeschreibung – Chemnitz – Landessti
 ftung Sachsen (Weiterdenken)
END:VEVENT
END:VCALENDAR
