BEGIN:VCALENDAR
VERSION:2.0
PRODID:-//ZContent.net//ZapCalLib 1.0//EN
CALSCALE:GREGORIAN
METHOD:PUBLISH
BEGIN:VEVENT
SUMMARY:Die erste Sitzung im Rat
DTSTART:20200328T100000
DTEND:20200328T173000
UID:2026-04-22-20-10-43-0-@calendar.boell.de
DTSTAMP:20260422T181043
DESCRIPTION:▶ Siehe Veranstaltungsbeschreibung – Augsburg – Petra-Kel
 ly-Stiftung
END:VEVENT
END:VCALENDAR
