BEGIN:VCALENDAR
VERSION:2.0
PRODID:-//ZContent.net//ZapCalLib 1.0//EN
CALSCALE:GREGORIAN
METHOD:PUBLISH
BEGIN:VEVENT
SUMMARY:Die erste Sitzung im Rat (Kurzversion)
DTSTART:20200327T160000
DTEND:20200327T210000
UID:2026-04-24-04-12-52-0-@calendar.boell.de
DTSTAMP:20260424T021252
DESCRIPTION:▶ Siehe Veranstaltungsbeschreibung – Augsburg – Petra-Kel
 ly-Stiftung
END:VEVENT
END:VCALENDAR
