BEGIN:VCALENDAR
VERSION:2.0
PRODID:-//ZContent.net//ZapCalLib 1.0//EN
CALSCALE:GREGORIAN
METHOD:PUBLISH
BEGIN:VEVENT
SUMMARY:Gender, Power, and Arms: | The Interlinkages between International 
 Armament, Masculinities, and Discrimination
DTSTART:20200224T183000
DTEND:20200224T210000
UID:2021-12-02-04-33-40-0-@calendar.boell.de
DTSTAMP:20211202T033340
DESCRIPTION:Heinrich-Böll-Stiftung - Bundesstiftung Berlin – 
END:VEVENT
END:VCALENDAR
