BEGIN:VCALENDAR
VERSION:2.0
PRODID:-//ZContent.net//ZapCalLib 1.0//EN
CALSCALE:GREGORIAN
METHOD:PUBLISH
BEGIN:VEVENT
SUMMARY:Bildungsreise Georgien - VERSCHOBEN oder DIGITAL am 27./28.05.2020 
 | 
DTSTART:20200516T080000
DTEND:20200525T200000
UID:2021-12-02-04-29-49-0-@calendar.boell.de
DTSTAMP:20211202T032949
DESCRIPTION:Landesstiftung Schleswig-Holstein
END:VEVENT
END:VCALENDAR
