BEGIN:VCALENDAR
VERSION:2.0
PRODID:-//ZContent.net//ZapCalLib 1.0//EN
CALSCALE:GREGORIAN
METHOD:PUBLISH
BEGIN:VEVENT
SUMMARY:Online-Seminar: Gegenargument online – Hate Speech widersprechen 
 (Warteliste) | 
DTSTART:20200218T180000
DTEND:20200218T200000
UID:2021-12-02-04-23-36-0-@calendar.boell.de
DTSTAMP:20211202T032336
DESCRIPTION:▶ Siehe Veranstaltungsbeschreibung – GreenCampus
END:VEVENT
END:VCALENDAR
