BEGIN:VCALENDAR
VERSION:2.0
PRODID:-//ZContent.net//ZapCalLib 1.0//EN
CALSCALE:GREGORIAN
METHOD:PUBLISH
BEGIN:VEVENT
SUMMARY:Finissage der Ausstellung „Die Macht der Gefühle. Deutschland 19
  | 19“
DTSTART:20200304T190000
DTEND:20200304T203000
UID:2026-04-19-21-01-48-0-@calendar.boell.de
DTSTAMP:20260419T190148
DESCRIPTION:▶ Siehe Veranstaltungsbeschreibung – Stralsund – Landesst
 iftung Mecklenburg-Vorpommern
END:VEVENT
END:VCALENDAR
