BEGIN:VCALENDAR
VERSION:2.0
PRODID:-//ZContent.net//ZapCalLib 1.0//EN
CALSCALE:GREGORIAN
METHOD:PUBLISH
BEGIN:VEVENT
SUMMARY:Zeitdruck – Was nun? | 
DTSTART:20201009T100000
DTEND:20201009T170000
UID:2021-12-02-04-36-11-0-@calendar.boell.de
DTSTAMP:20211202T033611
DESCRIPTION:▶ Siehe Veranstaltungsbeschreibung – Magdeburg – GreenCam
 pus
END:VEVENT
END:VCALENDAR
