BEGIN:VCALENDAR
VERSION:2.0
PRODID:-//ZContent.net//ZapCalLib 1.0//EN
CALSCALE:GREGORIAN
METHOD:PUBLISH
BEGIN:VEVENT
SUMMARY:Populismus am Mittagstisch | 
DTSTART:20200321T113000
DTEND:20200321T183000
UID:2021-12-02-04-30-47-0-@calendar.boell.de
DTSTAMP:20211202T033047
DESCRIPTION:▶ Siehe Veranstaltungsbeschreibung – GreenCampus
END:VEVENT
END:VCALENDAR
