BEGIN:VCALENDAR
VERSION:2.0
PRODID:-//ZContent.net//ZapCalLib 1.0//EN
CALSCALE:GREGORIAN
METHOD:PUBLISH
BEGIN:VEVENT
SUMMARY:Zur aktuellen Situation in Iran | Podiumsdiskussion
DTSTART:20200211T180000
DTEND:20200211T200000
UID:2021-12-02-04-19-40-0-@calendar.boell.de
DTSTAMP:20211202T031940
DESCRIPTION:▶ Siehe Veranstaltungsbeschreibung – Hamburg – Landesstif
 tung Hamburg
END:VEVENT
END:VCALENDAR
