BEGIN:VCALENDAR
VERSION:2.0
PRODID:-//ZContent.net//ZapCalLib 1.0//EN
CALSCALE:GREGORIAN
METHOD:PUBLISH
BEGIN:VEVENT
SUMMARY:Skeptische Hoffnungen am Horn von Afrika | Aktivist*innengespräch
DTSTART:20200227T190000
DTEND:20200227T210000
UID:2021-12-02-04-28-01-0-@calendar.boell.de
DTSTAMP:20211202T032801
DESCRIPTION:Heinrich-Böll-Stiftung - Bundesstiftung Berlin – Berlin – 
 Heinrich-Böll-Stiftung - Bundesstiftung Berlin
END:VEVENT
END:VCALENDAR
