BEGIN:VCALENDAR
VERSION:2.0
PRODID:-//ZContent.net//ZapCalLib 1.0//EN
CALSCALE:GREGORIAN
METHOD:PUBLISH
BEGIN:VEVENT
SUMMARY:book:look - Podcasting live im Internet! | Tom Uhlig: Extrem unbrau
 chbar - Online Vortrag
DTSTART:20200317T190000
DTEND:20200317T210000
UID:2026-04-20-14-00-20-0-@calendar.boell.de
DTSTAMP:20260420T120020
DESCRIPTION:▶ Siehe Veranstaltungsbeschreibung – Hannover – Stiftung 
 Leben & Umwelt / Heinrich-Böll-Stiftung Niedersachsen
END:VEVENT
END:VCALENDAR
