BEGIN:VCALENDAR
VERSION:2.0
PRODID:-//ZContent.net//ZapCalLib 1.0//EN
CALSCALE:GREGORIAN
METHOD:PUBLISH
BEGIN:VEVENT
SUMMARY:"Sind die Sozialen Medien das Ende oder der Anfang von Demokratie?"
  | - Vortrag und Diskussion
DTSTART:20200219T183000
DTEND:20200219T200000
UID:2021-12-02-04-34-19-0-@calendar.boell.de
DTSTAMP:20211202T033419
DESCRIPTION:▶ Siehe Veranstaltungsbeschreibung – Lübeck – Landesstif
 tung Schleswig-Holstein
END:VEVENT
END:VCALENDAR
