BEGIN:VCALENDAR
VERSION:2.0
PRODID:-//ZContent.net//ZapCalLib 1.0//EN
CALSCALE:GREGORIAN
METHOD:PUBLISH
BEGIN:VEVENT
SUMMARY:„Dark Eden – Der Albtraum vom Erdöl“ | Dokumentarfilm und Ge
 spräch der Filmreihe zur Sozial-ökologischen Wende
DTSTART:20200227T190000
DTEND:20200227T211500
UID:2021-12-02-04-35-15-0-@calendar.boell.de
DTSTAMP:20211202T033515
DESCRIPTION:▶ Siehe Veranstaltungsbeschreibung – Hamburg – Landesstif
 tung Hamburg
END:VEVENT
END:VCALENDAR
