BEGIN:VCALENDAR
VERSION:2.0
PRODID:-//ZContent.net//ZapCalLib 1.0//EN
CALSCALE:GREGORIAN
METHOD:PUBLISH
BEGIN:VEVENT
SUMMARY:ABGESAGT - Digitale Gewalt bekämpfen  | 
DTSTART:20200320T100000
DTEND:20200320T180000
UID:2021-12-02-04-32-41-0-@calendar.boell.de
DTSTAMP:20211202T033241
DESCRIPTION:Heinrich-Böll-Stiftung - Bundesstiftung Berlin – Berlin – 
 Gunda-Werner-Institut für Feminismus und Geschlechterdemokratie
END:VEVENT
END:VCALENDAR
