BEGIN:VCALENDAR
VERSION:2.0
PRODID:-//ZContent.net//ZapCalLib 1.0//EN
CALSCALE:GREGORIAN
METHOD:PUBLISH
BEGIN:VEVENT
SUMMARY:Arbeiten in den Medien - wie und wo? | Verantwortungsbewusst in den
  Medien arbeiten
DTSTART:20200206T180000
DTEND:20200206T200000
UID:2026-04-22-22-55-00-0-@calendar.boell.de
DTSTAMP:20260422T205500
DESCRIPTION:▶ Siehe Veranstaltungsbeschreibung – Hamburg – Landesstif
 tung Hamburg
END:VEVENT
END:VCALENDAR
